BEGIN:VCALENDAR
VERSION:2.0
PRODID:-//ChamberMaster//Event Calendar 2.0//EN
METHOD:PUBLISH
X-PUBLISHED-TTL:P3D
REFRESH-INTERVAL:P3D
CALSCALE:GREGORIAN
BEGIN:VEVENT
DTSTART:20190619T210000Z
DTEND:20190619T223000Z
X-MICROSOFT-CDO-ALLDAYEVENT:FALSE
SUMMARY:Game On!
DESCRIPTION:Get your "Game On" at the Ruth Culver Community library Wednesday\, June 19 from 4:00 p.m. to 5:30 p.m.  Kids of all ages are invited to come and play the games provided.  Chess clubbers take note: we'll have six chess sets available so bring your friends!  Contact Beth at 643-8318 with questions.
X-ALT-DESC;FMTTYPE=text/html:Get your &quot\;Game On&quot\; at the Ruth Culver Community library Wednesday\, June 19 from 4:00 p.m. to 5:30 p.m.&nbsp\; Kids of all ages are invited to come and play the games provided.&nbsp\; Chess clubbers take note: we&#39\;ll have six chess sets available so bring your friends!&nbsp\; Contact Beth at 643-8318 with questions.
LOCATION:Ruth Culver Community Library 540 Water Street\, Prairie du Sac
UID:e.1184.22327
SEQUENCE:3
DTSTAMP:20260423T153227Z
URL:http://members.saukprairie.com/events/details/game-on-22327
END:VEVENT

END:VCALENDAR
