BEGIN:VCALENDAR
VERSION:2.0
PRODID:-//ChamberMaster//Event Calendar 2.0//EN
METHOD:PUBLISH
X-PUBLISHED-TTL:P3D
REFRESH-INTERVAL:P3D
CALSCALE:GREGORIAN
BEGIN:VEVENT
DTSTART:20181009T233000Z
DTEND:20181010T010000Z
X-MICROSOFT-CDO-ALLDAYEVENT:FALSE
SUMMARY:Game Plan Parenting Group Class
DESCRIPTION:Coaching Parent to Design Their Own Family Playbook!\n\nWhat would it be like to strengthen YOUR unique family\, improve communication and empower both parents and kids? Game Plan Parenting helps parents gain a better understanding of who they are\, how they parent\, and what works best for THEM...not what others decide for them. This is about finding your unique style and celebrating who you are as a family! Join us on this fun and exciting journey of empowered parenting!
X-ALT-DESC;FMTTYPE=text/html:<strong><em>Coaching Parent to Design Their Own Family Playbook!</em></strong><br />\n<span style="background-color:rgb(255\, 255\, 255)\; color:rgb(29\, 33\, 41)\; font-family:helvetica\,arial\,sans-serif\; font-size:14px">What would it be like to strengthen YOUR unique family\, improve communication and empower both parents and kids? Game Plan Parenting helps parents gain a better understanding of who they are\, how they parent\, and what works best for THEM...not what others decide for them. This is about finding your unique style and celebrating who you are as a family! Join us on this fun and exciting journey of empowered parenting!</span>
LOCATION:We are located inside the Prairie Fire Yoga & Wellness Center\, 560 Park Ave.\, Suite 101\, Prairie du Sac\, WI
UID:e.1184.20537
SEQUENCE:3
DTSTAMP:20260424T033648Z
URL:http://members.saukprairie.com/events/details/game-plan-parenting-group-class-10-09-2018-20537
END:VEVENT

END:VCALENDAR
