BEGIN:VCALENDAR
VERSION:2.0
PRODID:-//ChamberMaster//Event Calendar 2.0//EN
METHOD:PUBLISH
X-PUBLISHED-TTL:P3D
REFRESH-INTERVAL:P3D
CALSCALE:GREGORIAN
BEGIN:VEVENT
DTSTART:20200530T140000Z
DTEND:20200530T160000Z
X-MICROSOFT-CDO-ALLDAYEVENT:FALSE
SUMMARY:Garden in a Box Workshop
DESCRIPTION:Informational seminar on planting a garden using the "Square Foot Gardening" approach. Topics discussed include introductory gardening techniques\, site selection\, soil mix\, basic construction\, plant selection\, and tips/tricks. Upon completion of the seminar\, all guests shall receive their own 4' x 4' raised bed planter with prescribed soilless mixture. Construction and planting of your own gardening box will be demonstrated. Plants and seeds will also be distributed to fill your garden bed (while they last). Guests will be able to assemble their garden at home in less than 30 minutes. No previous skills required!
X-ALT-DESC;FMTTYPE=text/html:<span style="background-color:rgb(255\, 255\, 255)\; color:rgb(29\, 33\, 41)\; font-family:helvetica\,arial\,sans-serif\; font-size:14px">Informational seminar on planting a garden using the &ldquo\;Square Foot Gardening&rdquo\; approach. Topics discussed include introductory gardening techniques\, site selection\, soil mix\, basic construction\, plant selection\, and tips/tricks. Upon completion of the seminar\, all guests shall receive their own 4&rsquo\; x 4&rsquo\; raised bed planter with prescribed soilless mixture. Construction and planting of your own gardening box will be demonstrated. Plants and seeds will also be distributed to fill your garden bed (while they last). Guests will be able to assemble their garden at home in less than 30 minutes. No previous skills required!</span>
LOCATION:SP Fitness 1111 Dallas Street Suite B Inddors or outdoors - depending on weather
UID:e.1184.24117
SEQUENCE:3
DTSTAMP:20260423T001311Z
URL:http://members.saukprairie.com/events/details/garden-in-a-box-workshop-24117
END:VEVENT

END:VCALENDAR
