BEGIN:VCALENDAR
VERSION:2.0
PRODID:-//ChamberMaster//Event Calendar 2.0//EN
METHOD:PUBLISH
X-PUBLISHED-TTL:P3D
REFRESH-INTERVAL:P3D
CALSCALE:GREGORIAN
BEGIN:VEVENT
DTSTART:20190814T223000Z
DTEND:20190815T013000Z
X-MICROSOFT-CDO-ALLDAYEVENT:FALSE
SUMMARY:GARDEN RECEPTION FOR LOCALS AND DONORS
DESCRIPTION:This annual free event invites residents of Iowa\, Sauk\, and Richland County\, WI and donors\, and Friends of Taliesin members\, to the beautiful spaces of Frank Lloyd Wright's Taliesin for a self-guided tour and reception with refreshments provided by the Riverview Terrace Cafe. Guests enjoy a special opportunity to move freely through the spaces\, to ask questions of the staff\, and to mingle with students of the Food Artisan Program.\n\n\n\nGuests will be shuttled from the Frank Lloyd Wright Visitor Center to Taliesin and back.\n\n\nReservations:\n\nReservations are required. Please bring a picture ID with you to registration as proof of residence.\n\nDonors and Friends of Taliesin will be on a guest list at registration.\n\nResidents and donors are limited to bring one guest.\n\n\nLimit 200 people.\n\n\nParking & Registration:\n\nFrank Lloyd Wright Visitor Center\n\n5607 County Road C\n\nSpring Green\, WI 53588
X-ALT-DESC;FMTTYPE=text/html:<div style="box-sizing: border-box\; color: rgb(0\, 0\, 0)\; font-family: futura-pt\, sans-serif\; font-size: 25px\;">\n<p style="box-sizing: border-box\; margin: 0px 0px 10px\; font-weight: lighter\; font-size: 2.5rem\; line-height: 1.7\;"><span style="font-size:16px\;"><span style="font-family:arial\;">This annual free event invites residents of Iowa\, Sauk\, and Richland County\, WI and donors\, and Friends of Taliesin members\,&nbsp\;to the beautiful spaces of Frank Lloyd Wright&rsquo\;s Taliesin for a self-guided tour and&nbsp\;reception with refreshments provided by the&nbsp\;<a data-link-type="web" href="https://www.taliesinpreservation.org/dining/" rel="noopener" style="box-sizing: border-box\; background-color: transparent\; color: black\; text-decoration-line: none\;" target="_blank">Riverview Terrace Cafe</a>. Guests enjoy a special opportunity to move freely through the spaces\, to ask questions of the staff\, and to mingle with students of the Food Artisan Program.</span></span></p>\n</div>\n\n<div style="box-sizing: border-box\; color: rgb(0\, 0\, 0)\; font-family: futura-pt\, sans-serif\; font-size: 25px\;">\n<p style="box-sizing: border-box\; margin: 0px 0px 10px\; font-weight: lighter\; font-size: 2.5rem\; line-height: 1.7\;"><span style="font-size:16px\;"><span style="font-family:arial\;">Guests will be shuttled from the Frank Lloyd Wright Visitor Center to Taliesin and back.</span></span></p>\n</div>\n\n<div style="box-sizing: border-box\; color: rgb(0\, 0\, 0)\; font-family: futura-pt\, sans-serif\; font-size: 25px\;"><span style="font-size:16px\;"><span style="font-family:arial\;">Reservations:</span></span></div>\n\n<div style="box-sizing: border-box\; color: rgb(0\, 0\, 0)\; font-family: futura-pt\, sans-serif\; font-size: 25px\;"><span style="font-size:16px\;"><span style="font-family:arial\;">Reservations are required.&nbsp\;<span style="box-sizing: border-box\; font-weight: bolder\;">Please bring a picture ID with you to registration as proof of residence</span>.</span></span></div>\n\n<div style="box-sizing: border-box\; color: rgb(0\, 0\, 0)\; font-family: futura-pt\, sans-serif\; font-size: 25px\;"><span style="font-size:16px\;"><span style="font-family:arial\;">Donors and Friends of Taliesin will be on a guest list at registration.</span></span></div>\n\n<div style="box-sizing: border-box\; color: rgb(0\, 0\, 0)\; font-family: futura-pt\, sans-serif\; font-size: 25px\;"><span style="font-size:16px\;"><span style="font-family:arial\;">Residents and donors are limited to bring&nbsp\;<span style="box-sizing: border-box\; font-weight: bolder\;">one guest</span>.</span></span></div>\n\n<div style="box-sizing: border-box\; color: rgb(0\, 0\, 0)\; font-family: futura-pt\, sans-serif\; font-size: 25px\;">\n<p style="box-sizing: border-box\; margin: 0px 0px 10px\; font-weight: lighter\; font-size: 2.5rem\; line-height: 1.7\;"><span style="font-size:16px\;"><span style="font-family:arial\;">Limit 200 people.</span></span></p>\n</div>\n\n<div style="box-sizing: border-box\; color: rgb(0\, 0\, 0)\; font-family: futura-pt\, sans-serif\; font-size: 25px\;"><span style="font-size:16px\;"><span style="font-family:arial\;">Parking &amp\; Registration:</span></span><br />\n<span style="font-size:16px\;"><span style="font-family:arial\;">Frank Lloyd Wright Visitor Center</span></span></div>\n\n<div style="box-sizing: border-box\; color: rgb(0\, 0\, 0)\; font-family: futura-pt\, sans-serif\; font-size: 25px\;"><span style="font-size:16px\;"><span style="font-family:arial\;">5607 County Road C</span></span></div>\n\n<div style="box-sizing: border-box\; color: rgb(0\, 0\, 0)\; font-family: futura-pt\, sans-serif\; font-size: 25px\;"><span style="font-size:16px\;"><span style="font-family:arial\;">Spring Green\, WI 53588</span></span></div>\n
LOCATION:
UID:e.1184.22704
SEQUENCE:3
DTSTAMP:20260423T141730Z
URL:http://members.saukprairie.com/events/details/garden-reception-for-locals-and-donors-22704
END:VEVENT

END:VCALENDAR
