BEGIN:VCALENDAR
VERSION:2.0
PRODID:-//ChamberMaster//Event Calendar 2.0//EN
METHOD:PUBLISH
X-PUBLISHED-TTL:P3D
REFRESH-INTERVAL:P3D
CALSCALE:GREGORIAN
BEGIN:VEVENT
DTSTART:20160604T140000Z
DTEND:20160604T180000Z
X-MICROSOFT-CDO-ALLDAYEVENT:FALSE
SUMMARY:Garden Thyme Bus Tour
DESCRIPTION:Join us on a wonderful tour through the Sauk Prairie rural area.  We will meet at River Arts on Water Gallery (590 Water Street in downtown Prairie du Sac\, WI) at 9am.  Then\, climb onboard our comfy coach bus as we take you to 4 different kinds of gardens and 1 local bakery.  During the ride\, we will learn more about the 12 barn quilts along the tour.  Why were the designs chosen?  What significance do these barn quilts have?  What work goes into having your very own?  We will return to the gallery around 1pm.  Don't forget to check out our plant sale happening the same day from 1pm-5pm next to the gallery!  We will have sun\, shade\, and succulent plant options available.
X-ALT-DESC;FMTTYPE=text/html:<span style="color:rgb(94\, 96\, 102)\; font-family:helvetica\,arial\,sans-serif\; font-size:16px">Join us on a wonderful tour through the Sauk Prairie rural area. &nbsp\;We will meet at River Arts on Water Gallery (590 Water Street in downtown Prairie du Sac\, WI) at 9am. &nbsp\;Then\, climb onboard our comfy coach bus as we take you to 4 different kinds of gardens and 1 local bakery. &nbsp\;During the ride\, we will learn more about the 12 barn quilts along the tour. &nbsp\;Why were the designs chosen? &nbsp\;What significance do these barn quilts have? &nbsp\;What work goes into having your very own? &nbsp\;We will return to the gallery around 1pm. &nbsp\;Don&rsquo\;t forget to check out our plant sale happening the same day from 1pm-5pm next to the gallery! &nbsp\;We will have sun\, shade\, and succulent plant options available.</span>
LOCATION:Pick-up at River Arts on Water Gallery (590 Water St\, downtown Prairie du Sac)
UID:e.1184.8356
SEQUENCE:3
DTSTAMP:20260426T020626Z
URL:http://members.saukprairie.com/events/details/garden-thyme-bus-tour-06-04-2016-8356
END:VEVENT

END:VCALENDAR
