BEGIN:VCALENDAR
VERSION:2.0
PRODID:-//ChamberMaster//Event Calendar 2.0//EN
METHOD:PUBLISH
X-PUBLISHED-TTL:P3D
REFRESH-INTERVAL:P3D
CALSCALE:GREGORIAN
BEGIN:VEVENT
DTSTART;VALUE=DATE:20180815
DTEND;VALUE=DATE:20180816
TRANSP:TRANSPARENT
X-MICROSOFT-CDO-ALLDAYEVENT:TRUE
SUMMARY:Gavin Bros. Auction
DESCRIPTION:Click here for a listing of items that will be for sale
X-ALT-DESC;FMTTYPE=text/html:<a href="https://chambermaster.blob.core.windows.net/userfiles/UserFiles/chambers/1184/File/MX-2600N_20180725_141633.pdf">Click here</a> for a listing of items that will be for sale
LOCATION:Henry Elsing E10519 River Road Sauk City\, Wi
UID:e.1184.20494
SEQUENCE:3
DTSTAMP:20260424T063851Z
URL:http://members.saukprairie.com/events/details/gavin-bros-auction-20494
END:VEVENT

END:VCALENDAR
