BEGIN:VCALENDAR
VERSION:2.0
PRODID:-//ChamberMaster//Event Calendar 2.0//EN
METHOD:PUBLISH
X-PUBLISHED-TTL:P3D
REFRESH-INTERVAL:P3D
CALSCALE:GREGORIAN
BEGIN:VEVENT
DTSTART;VALUE=DATE:20190816
DTEND;VALUE=DATE:20190818
TRANSP:TRANSPARENT
X-MICROSOFT-CDO-ALLDAYEVENT:TRUE
SUMMARY:Gearing Up For Harvest
DESCRIPTION:Join us for two nights of pulling fun. Farm Pull on Friday night and Badger State Pullers on Saturday night. We're crossing our fingers that mother nature will leave us alone and not room or fundraising plans like in the spring. For a full list of details visit our website: https://saukprairieffa.com/ffa-alumni/fall-tractor-pull/
X-ALT-DESC;FMTTYPE=text/html:<span style="color: rgb(29\, 33\, 41)\; font-family: Helvetica\, Arial\, sans-serif\; font-size: 14px\; white-space: pre-wrap\;">Join us for two nights of pulling fun. Farm Pull on Friday night and Badger State Pullers on Saturday night. We&#39\;re crossing our fingers that mother nature will leave us alone and not room or fundraising plans like in the spring. For a full list of details visit our website: </span><a data-lynx-mode="hover" data-lynx-uri="https://l.facebook.com/l.php?u=https%3A%2F%2Fsaukprairieffa.com%2Fffa-alumni%2Ffall-tractor-pull%2F%3Ffbclid%3DIwAR3lChV3lAS443xsmHJqJkIfnZ2QoHdX7I-80Agd92LG1zIHKK5qb65F6g0&amp\;h=AT2JvPA2b8XI4IU3iH0eHf5DyFocGQ1oFW8hUGfXmgRKq8HRGxzHYF7IPVRvqFwpEG4Z5faOT02IjHST2nUBN9x_lI4taNiPamoNA4mE_hkOu0waXPTuj_BhlyQQjvvaBTI" href="https://saukprairieffa.com/ffa-alumni/fall-tractor-pull/?fbclid=IwAR3lChV3lAS443xsmHJqJkIfnZ2QoHdX7I-80Agd92LG1zIHKK5qb65F6g0" rel="nofollow noopener" style="color: rgb(56\, 88\, 152)\; cursor: pointer\; text-decoration-line: none\; font-family: Helvetica\, Arial\, sans-serif\; font-size: 14px\; white-space: pre-wrap\;" target="_blank">https://saukprairieffa.com/ffa-alumni/fall-tractor-pull/</a>
LOCATION:Sauk Prairie FFA Alumni Park 998 15th St. Prairie du Sac
UID:e.1184.22708
SEQUENCE:3
DTSTAMP:20260423T124312Z
URL:http://members.saukprairie.com/events/details/gearing-up-for-harvest-22708
END:VEVENT

END:VCALENDAR
