BEGIN:VCALENDAR
VERSION:2.0
PRODID:-//ChamberMaster//Event Calendar 2.0//EN
METHOD:PUBLISH
X-PUBLISHED-TTL:P3D
REFRESH-INTERVAL:P3D
CALSCALE:GREGORIAN
BEGIN:VEVENT
DTSTART:20191205T181500Z
DTEND:20191205T184500Z
X-MICROSOFT-CDO-ALLDAYEVENT:FALSE
SUMMARY:George Culver Community Library Groundbreaking Ceremony
DESCRIPTION:Please join us for the groundbreaking ceremony at our new location. Help us celebrate the start of renovations on the future home of our community library!
X-ALT-DESC;FMTTYPE=text/html:Please join us for the groundbreaking ceremony at our new location. Help us celebrate the start of renovations on the future home of our community library!
LOCATION:615 Phillips Blvd. Sauk City\, WI 53583
UID:e.1184.23728
SEQUENCE:3
DTSTAMP:20260423T070338Z
URL:http://members.saukprairie.com/events/details/george-culver-community-library-groundbreaking-ceremony-23728
END:VEVENT

END:VCALENDAR
