BEGIN:VCALENDAR
VERSION:2.0
PRODID:-//ChamberMaster//Event Calendar 2.0//EN
METHOD:PUBLISH
X-PUBLISHED-TTL:P3D
REFRESH-INTERVAL:P3D
CALSCALE:GREGORIAN
BEGIN:VEVENT
DTSTART;VALUE=DATE:20211001
DTEND;VALUE=DATE:20211101
TRANSP:TRANSPARENT
X-MICROSOFT-CDO-ALLDAYEVENT:TRUE
SUMMARY:Get BOOed Sauk Prairie
DESCRIPTION:Get BOOed Sauk Prairie! Looking for a fun activity around Halloween!? Pickup a BOO bag from the community center and BOO a friend or neighbor. How it Works: Pickup your BOO bag for the community center. The bag will be loaded with instructions\, a we've been BOOed cutout\, stickers\, and lots of candy and other trinkets! You then secretly take this bag and BOO your neighbors. Grab the kids and under the cover of dusk\, leave it on your neighbors or friends doorstep. Knock/ring the bell and run away! You don't want to get caught! Help us spread the Halloween fun with all of Sauk Prairie!
X-ALT-DESC;FMTTYPE=text/html:Get BOOed Sauk Prairie! Looking for a fun activity around Halloween!? Pickup a BOO bag from the community center and BOO a friend or neighbor. How it Works: Pickup your BOO bag for the community center. The bag will be loaded with instructions\, a we&#39\;ve been BOOed cutout\, stickers\, and lots of candy and other trinkets! You then secretly take this bag and BOO your neighbors. Grab the kids and under the cover of dusk\, leave it on your neighbors or friends doorstep. Knock/ring the bell and run away! You don&#39\;t want to get caught! Help us spread the Halloween fun with all of Sauk Prairie!
LOCATION:Sauk Prairie Neighborhoods
UID:e.1184.26894
SEQUENCE:3
DTSTAMP:20260421T214733Z
URL:http://members.saukprairie.com/events/details/get-booed-sauk-prairie-10-01-2021-26894
END:VEVENT

END:VCALENDAR
