BEGIN:VCALENDAR
VERSION:2.0
PRODID:-//ChamberMaster//Event Calendar 2.0//EN
METHOD:PUBLISH
X-PUBLISHED-TTL:P3D
REFRESH-INTERVAL:P3D
CALSCALE:GREGORIAN
BEGIN:VEVENT
DTSTART:20210803T130000Z
DTEND:20210803T150000Z
X-MICROSOFT-CDO-ALLDAYEVENT:FALSE
SUMMARY:Get Moving Sauk Prairie - August 3
DESCRIPTION:Don't miss this great networking and educational meeting\, the first Tuesday of each month.  Featured speakers\, Community and Chamber updates.
X-ALT-DESC;FMTTYPE=text/html:Don&#39\;t miss this great networking and educational meeting\, the first Tuesday of each month.&nbsp\; Featured speakers\, Community and Chamber updates.<br />\n<br />\n&nbsp\;
LOCATION:
UID:e.1184.26589
SEQUENCE:3
DTSTAMP:20260422T003403Z
URL:http://members.saukprairie.com/events/details/get-moving-sauk-prairie-august-3-26589
END:VEVENT

END:VCALENDAR
