BEGIN:VCALENDAR
VERSION:2.0
PRODID:-//ChamberMaster//Event Calendar 2.0//EN
METHOD:PUBLISH
X-PUBLISHED-TTL:P3D
REFRESH-INTERVAL:P3D
CALSCALE:GREGORIAN
BEGIN:VEVENT
DTSTART:20200204T133000Z
DTEND:20200204T150000Z
X-MICROSOFT-CDO-ALLDAYEVENT:FALSE
SUMMARY:Get Moving Sauk Prairie - February 4th\, 2020
DESCRIPTION:Don't miss this great networking and educational meeting\, the first Tuesday of each month.  Featured speakers\, Chamber updates\, coffee and light pastries\, and one great tuba player make this a light morning meeting that is sure to make you smile.
X-ALT-DESC;FMTTYPE=text/html:Don&#39\;t miss this great networking and educational meeting\, the first Tuesday of each month.&nbsp\; Featured speakers\, Chamber updates\, coffee and light pastries\, and one great tuba player make this a light morning meeting that is sure to make you smile.&nbsp\;<br />\n<br />\n&nbsp\;
LOCATION:Blue Spoon Cafe - River Room 550 Water Street Prairie du Sac\, WI 53578
UID:e.1184.23688
SEQUENCE:3
DTSTAMP:20260423T041400Z
URL:http://members.saukprairie.com/events/details/get-moving-sauk-prairie-february-4th-2020-23688
END:VEVENT

END:VCALENDAR
