BEGIN:VCALENDAR
VERSION:2.0
PRODID:-//ChamberMaster//Event Calendar 2.0//EN
METHOD:PUBLISH
X-PUBLISHED-TTL:P3D
REFRESH-INTERVAL:P3D
CALSCALE:GREGORIAN
BEGIN:VEVENT
DTSTART:20211102T130000Z
DTEND:20211102T143000Z
X-MICROSOFT-CDO-ALLDAYEVENT:FALSE
SUMMARY:Get Moving Sauk Prairie - November 2nd
DESCRIPTION:Don't miss this great networking and educational meeting\, the first Tuesday of each month.  Featured speakers\, and Chamber updates.
X-ALT-DESC;FMTTYPE=text/html:Don&#39\;t miss this great networking and educational meeting\, the first Tuesday of each month.&nbsp\; Featured speakers\, and Chamber updates.<br />\n<br />\n&nbsp\;
LOCATION:6:8 Inc. 821 Industry Rd. Sauk City\, WI 53583
UID:e.1184.26915
SEQUENCE:3
DTSTAMP:20260421T202842Z
URL:http://members.saukprairie.com/events/details/get-moving-sauk-prairie-november-2nd-26915
END:VEVENT

END:VCALENDAR
