BEGIN:VCALENDAR
VERSION:2.0
PRODID:-//ChamberMaster//Event Calendar 2.0//EN
METHOD:PUBLISH
X-PUBLISHED-TTL:P3D
REFRESH-INTERVAL:P3D
CALSCALE:GREGORIAN
BEGIN:VEVENT
DTSTART:20180321T230000Z
DTEND:20180322T004500Z
X-MICROSOFT-CDO-ALLDAYEVENT:FALSE
SUMMARY:Get Stampin' for Adults
DESCRIPTION:Head to the library to Wednesday\, March 21 at 6:00 p.m. to get creative with rubber stamps\, all ink and paper provided! This event is sponsored by the Friends of the Ruth Culver Community Library and is open to adults only.  Registration is appreciated. Contact Meagan or Charlene at 643-8318 with questions.
X-ALT-DESC;FMTTYPE=text/html:Head to the library to Wednesday\, March 21 at 6:00 p.m. to get creative with rubber stamps\, all ink and paper provided! This event is sponsored by the Friends of the Ruth Culver Community Library and is open to adults only.&nbsp\; Registration is appreciated. Contact Meagan or Charlene at 643-8318 with questions.
LOCATION:Ruth Culver Community Library 540 Water Street\, Prairie du Sac
UID:e.1184.14585
SEQUENCE:3
DTSTAMP:20260424T144349Z
URL:http://members.saukprairie.com/events/details/get-stampin-for-adults-14585
END:VEVENT

END:VCALENDAR
