BEGIN:VCALENDAR
VERSION:2.0
PRODID:-//ChamberMaster//Event Calendar 2.0//EN
METHOD:PUBLISH
X-PUBLISHED-TTL:P3D
REFRESH-INTERVAL:P3D
CALSCALE:GREGORIAN
BEGIN:VEVENT
DTSTART:20190716T190000Z
DTEND:20190716T200000Z
X-MICROSOFT-CDO-ALLDAYEVENT:FALSE
SUMMARY:Getting older\, should we care about nutrition?
DESCRIPTION:As we age\, we may think some changes in our health our inevitable. However\, good nutrition and remaining active can help us keep strong enough to keep doing all the things we enjoy. This talk will cover the evolving research on nutrition as we age. Presented by Dr. Beth Olson\, Associate Professor of Nutrition Sciences at UW Madison.
X-ALT-DESC;FMTTYPE=text/html:As we age\, we may think some changes in our health our inevitable. However\, good nutrition and remaining active can help us keep strong enough to keep doing all the things we enjoy. This talk will cover the evolving research on nutrition as we age. Presented by Dr. Beth Olson\, Associate Professor of Nutrition Sciences at UW Madison.&nbsp\;
LOCATION:515 Water Street Sauk City\, WI 53583
UID:e.1184.22515
SEQUENCE:3
DTSTAMP:20260423T141438Z
URL:http://members.saukprairie.com/events/details/getting-older-should-we-care-about-nutrition-22515
END:VEVENT

END:VCALENDAR
