BEGIN:VCALENDAR
VERSION:2.0
PRODID:-//ChamberMaster//Event Calendar 2.0//EN
METHOD:PUBLISH
X-PUBLISHED-TTL:P3D
REFRESH-INTERVAL:P3D
CALSCALE:GREGORIAN
BEGIN:VEVENT
DTSTART:20180611T180000Z
DTEND:20180611T190000Z
X-MICROSOFT-CDO-ALLDAYEVENT:FALSE
SUMMARY:Giant Bubble Show
DESCRIPTION:Mr. Marvel will present his Giant Bubble Show at the Ruth Culver Community Library Monday\, June 11 at 1:00 p.m.  The show combines 20ft bubbles\, fog bubbles\, kids in bubbles\, science and comedy into a really unique experience.  All ages are welcome. Contact Beth at 643-8318 with questions.
X-ALT-DESC;FMTTYPE=text/html:Mr. Marvel will present his Giant Bubble Show at the Ruth Culver Community Library Monday\, June 11 at 1:00 p.m.&nbsp\; The show combines 20ft bubbles\, fog bubbles\, kids in bubbles\, science and comedy into a really unique experience.&nbsp\; All ages are welcome. Contact Beth at 643-8318 with questions.
LOCATION:Ruth Culver Community Library 540 Water Street\, Prairie du Sac
UID:e.1184.18114
SEQUENCE:3
DTSTAMP:20260424T100539Z
URL:http://members.saukprairie.com/events/details/giant-bubble-show-18114
END:VEVENT

END:VCALENDAR
