BEGIN:VCALENDAR
VERSION:2.0
PRODID:-//ChamberMaster//Event Calendar 2.0//EN
METHOD:PUBLISH
X-PUBLISHED-TTL:P3D
REFRESH-INTERVAL:P3D
CALSCALE:GREGORIAN
BEGIN:VEVENT
DTSTART:20190611T190000Z
DTEND:20190611T200000Z
X-MICROSOFT-CDO-ALLDAYEVENT:FALSE
SUMMARY:Giant Steps
DESCRIPTION:John Heasley\, astronomist and educator\, presents on the 50th anniversary of the Apollo Moon Landing. This program is geared toward adults and older children.
X-ALT-DESC;FMTTYPE=text/html:John Heasley\, astronomist and educator\, presents on the 50th anniversary of the Apollo Moon Landing. This program is geared toward adults and older children.
LOCATION:515 Water St Sauk City\, WI 53583
UID:e.1184.22274
SEQUENCE:3
DTSTAMP:20260423T153226Z
URL:http://members.saukprairie.com/events/details/giant-steps-22274
END:VEVENT

END:VCALENDAR
