BEGIN:VCALENDAR
VERSION:2.0
PRODID:-//ChamberMaster//Event Calendar 2.0//EN
METHOD:PUBLISH
X-PUBLISHED-TTL:P3D
REFRESH-INTERVAL:P3D
CALSCALE:GREGORIAN
BEGIN:VEVENT
DTSTART:20210812T000000Z
DTEND:20210812T020000Z
X-MICROSOFT-CDO-ALLDAYEVENT:FALSE
SUMMARY:Gin Mill Hollow at Vintage Brewing Co.
DESCRIPTION:High energy alt-bluegrass band at Vintage Brewing Co.
X-ALT-DESC;FMTTYPE=text/html:High energy alt-bluegrass band at Vintage Brewing Co.
LOCATION:Vintage Brewing Co. Sauk Prairie\, WI
UID:e.1184.26685
SEQUENCE:3
DTSTAMP:20260422T004039Z
URL:http://members.saukprairie.com/events/details/gin-mill-hollow-at-vintage-brewing-co-26685
END:VEVENT

END:VCALENDAR
