BEGIN:VCALENDAR
VERSION:2.0
PRODID:-//ChamberMaster//Event Calendar 2.0//EN
METHOD:PUBLISH
X-PUBLISHED-TTL:P3D
REFRESH-INTERVAL:P3D
CALSCALE:GREGORIAN
BEGIN:VEVENT
DTSTART:20180916T210000Z
DTEND:20180917T000000Z
X-MICROSOFT-CDO-ALLDAYEVENT:FALSE
SUMMARY:Gin Mill Hollow at Wood BBQ
DESCRIPTION:Sunday fun-day with live music and delicious barbecue at Wood BBQ in Sauk City. Show runs 4-7\, come early\, stay late!
X-ALT-DESC;FMTTYPE=text/html:<div class="_63eu" style="box-sizing: border-box\; font-size: 14px\; max-height: 260px\; overflow: hidden\; padding: 12px\; word-wrap: break-word\; font-family: Helvetica\, Arial\, sans-serif\; color: rgb(29\, 33\, 41)\;">\n<div class="_63ew" data-testid="event-permalink-details" style="font-family: inherit\;"><span style="color: rgb(29\, 33\, 41)\; font-family: Helvetica\, Arial\, sans-serif\; font-size: 14px\;">Sunday fun-day with live music and delicious barbecue at Wood BBQ in Sauk City. Show runs 4-7\, come early\, stay late!</span></div>\n\n<div>&nbsp\;</div>\n</div>\n
LOCATION:Wood BBQ 739 Phillips Blvd.\, Sauk City
UID:e.1184.20525
SEQUENCE:3
DTSTAMP:20260424T051741Z
URL:http://members.saukprairie.com/events/details/gin-mill-hollow-at-wood-bbq-20525
END:VEVENT

END:VCALENDAR
