BEGIN:VCALENDAR
VERSION:2.0
PRODID:-//ChamberMaster//Event Calendar 2.0//EN
METHOD:PUBLISH
X-PUBLISHED-TTL:P3D
REFRESH-INTERVAL:P3D
CALSCALE:GREGORIAN
BEGIN:VEVENT
DTSTART:20161111T010000Z
DTEND:20161111T030000Z
X-MICROSOFT-CDO-ALLDAYEVENT:FALSE
SUMMARY:Gin Mill Hollow at Woodshed Ale House
DESCRIPTION:Gin Mill Hollow is the musical trio of Mark Norman\, Dan Plourde and Joshua Giudice singing songs while playing stringed instruments of all varieties.
X-ALT-DESC;FMTTYPE=text/html:<span style="color: rgb(75\, 79\, 86)\; font-family: helvetica\, arial\, sans-serif\; font-size: 14px\;">Gin Mill Hollow is the musical trio of Mark Norman\, Dan Plourde and Joshua Giudice singing songs while playing stringed instruments of all varieties.</span>
LOCATION:Woodshed Ale House 101 Jackson Street Sauk City\, WI 53583
UID:e.1184.9413
SEQUENCE:3
DTSTAMP:20260425T161258Z
URL:http://members.saukprairie.com/events/details/gin-mill-hollow-at-woodshed-ale-house-9413
END:VEVENT

END:VCALENDAR
