BEGIN:VCALENDAR
VERSION:2.0
PRODID:-//ChamberMaster//Event Calendar 2.0//EN
METHOD:PUBLISH
X-PUBLISHED-TTL:P3D
REFRESH-INTERVAL:P3D
CALSCALE:GREGORIAN
BEGIN:VEVENT
DTSTART:20180820T230000Z
DTEND:20180821T000000Z
X-MICROSOFT-CDO-ALLDAYEVENT:FALSE
SUMMARY:Summer Give Back Finale
DESCRIPTION:Celebrate the end of a summer-long coin collection to benefit the Humane Society of Sauk County with the Give Back Finale Monday\, August 20 at 6:00 p.m.  There will be live animals and photo ops! This event will be held at the Community Center\, 730 Monroe St\, Sauk City. Contact Beth at 643-8318 with questions.
X-ALT-DESC;FMTTYPE=text/html:<div>Celebrate the end of a summer-long coin collection to benefit the Humane Society of Sauk County with the Give Back Finale Monday\, August 20 at 6:00 p.m.&nbsp\; There will be live animals and photo ops! This event will be held at the&nbsp\;Community Center\, 730 Monroe St\, Sauk City.&nbsp\;Contact Beth at 643-8318 with questions.</div>\n
LOCATION:Sauk Prairie Community Center\, 730 Monroe St\, Sauk City\, WI 53583
UID:e.1184.20499
SEQUENCE:3
DTSTAMP:20260424T063829Z
URL:http://members.saukprairie.com/events/details/give-back-finale-20499
END:VEVENT

END:VCALENDAR
