BEGIN:VCALENDAR
VERSION:2.0
PRODID:-//ChamberMaster//Event Calendar 2.0//EN
METHOD:PUBLISH
X-PUBLISHED-TTL:P3D
REFRESH-INTERVAL:P3D
CALSCALE:GREGORIAN
BEGIN:VEVENT
DTSTART;VALUE=DATE:20230319
DTEND;VALUE=DATE:20230320
TRANSP:TRANSPARENT
X-MICROSOFT-CDO-ALLDAYEVENT:TRUE
SUMMARY:Give back Sunday
DESCRIPTION:Announcing the upcoming Give Back Sunday benefitting the Baraboo School District Art & Programs! Save the date for Sunday\, March 19th\, come in any time we're open\, and support the cause.\n\n\n\nThere will be a raffle hosted by Baraboo Steampunk as part of #SteampunkForTheArts and live music by Chad Canfield. \n\n\n\nGIVE BACK SUNDAY PLEDGE\n\n10% of our 03/19 sales plus direct donations at the bar will benefit the art & music programs of the Baraboo School District. We believe in supporting the unique and creative spirit of our youth! ????\n\n\n\n.\n\n.\n\n.\n\n\n\n#GiveBackSundayBaraboo #baraboo #alringlingbrewingco #downtownbaraboo #UnityInTheCommunity #baraboocommunity #baraboounited #whatshappeningbaraboo
X-ALT-DESC;FMTTYPE=text/html:Announcing the upcoming Give Back Sunday benefitting the Baraboo School District Art &amp\; Programs! Save the date for Sunday\, March 19th\, come in any time we&rsquo\;re open\, and support the cause.<br />\n<br />\nThere will be a raffle hosted by Baraboo Steampunk as part of #SteampunkForTheArts and live music by Chad Canfield.&nbsp\;<br />\n<br />\nGIVE BACK SUNDAY PLEDGE<br />\n10% of our 03/19 sales plus direct donations at the bar will benefit the art &amp\; music programs of the Baraboo School District. We believe in supporting the unique and creative spirit of our youth! ????<br />\n<br />\n.<br />\n.<br />\n.<br />\n<br />\n#GiveBackSundayBaraboo #baraboo #alringlingbrewingco #downtownbaraboo #UnityInTheCommunity #baraboocommunity #baraboounited #whatshappeningbaraboo
LOCATION:623 Broadway St. Baraboo\, WI 53913
UID:e.1184.30221
SEQUENCE:3
DTSTAMP:20260420T164727Z
URL:http://members.saukprairie.com/events/details/give-back-sunday-30221
END:VEVENT

END:VCALENDAR
