BEGIN:VCALENDAR
VERSION:2.0
PRODID:-//ChamberMaster//Event Calendar 2.0//EN
METHOD:PUBLISH
X-PUBLISHED-TTL:P3D
REFRESH-INTERVAL:P3D
CALSCALE:GREGORIAN
BEGIN:VEVENT
DTSTART:20230326T160000Z
DTEND:20230327T000000Z
X-MICROSOFT-CDO-ALLDAYEVENT:FALSE
SUMMARY:Give back Sunday for Wisconsin big cat rescue & educational center
DESCRIPTION:Mark your calendars for this Give Back Sunday event on Sunday March 26th\, benefiting the Wisconsin Big Cat Rescue of Rock Springs! This is an all day event dedicated to fundraising for the cause.\n\n\n\nThe Wisconsin Big Cats Rescue mission\n\nis to provide a safe place and a comfortable home for abused\, neglected\, and unwanted big cats and also to educate the public about these extraordinary animals and the\n\nactions that necessitate the need for Wisconsin Big Cat Rescue & Educational Center.\n\n\n\nGIVE BACK SUNDAY\n\n10% of our 03/26 brewery sales plus direct donations taken at the bar will be donated. Wisconsin Big Cat Rescue will be hosting a silent auction and raffle.\n\n\n\nWe hope you can come out and show your support for the local community!
X-ALT-DESC;FMTTYPE=text/html:Mark your calendars for this Give Back Sunday event on Sunday March 26th\, benefiting the Wisconsin Big Cat Rescue of Rock Springs! This is an all day event dedicated to fundraising for the cause.<br />\n<br />\nThe Wisconsin Big Cats Rescue mission<br />\nis to provide a safe place and a comfortable home for abused\, neglected\, and unwanted big cats and also to educate the public about these extraordinary animals and the<br />\nactions that necessitate the need for Wisconsin Big Cat Rescue &amp\; Educational Center.<br />\n<br />\nGIVE BACK SUNDAY<br />\n10% of our 03/26 brewery sales plus direct donations taken at the bar will be donated. Wisconsin Big Cat Rescue will be hosting a silent auction and raffle.<br />\n<br />\nWe hope you can come out and show your support for the local community!
LOCATION:Al Ringling Brewing Co 623 Broadway St. Baraboo\, Wi. 53913
UID:e.1184.30705
SEQUENCE:3
DTSTAMP:20260420T165654Z
URL:http://members.saukprairie.com/events/details/give-back-sunday-for-wisconsin-big-cat-rescue-educational-center-30705
END:VEVENT

END:VCALENDAR
