BEGIN:VCALENDAR
VERSION:2.0
PRODID:-//ChamberMaster//Event Calendar 2.0//EN
METHOD:PUBLISH
X-PUBLISHED-TTL:P3D
REFRESH-INTERVAL:P3D
CALSCALE:GREGORIAN
BEGIN:VEVENT
DTSTART:20190628T180000Z
DTEND:20190628T200000Z
X-MICROSOFT-CDO-ALLDAYEVENT:FALSE
SUMMARY:Give Back Tie Blankets
DESCRIPTION:Come to the library and learn how to make tie-blankets that will be donated to kids and teens at the Sauk Prairie Hospital. Children under 6 must be accompanied.
X-ALT-DESC;FMTTYPE=text/html:Come to the library and learn how to make tie-blankets that will be donated to kids and teens at the Sauk Prairie Hospital. Children under 6 must be accompanied.
LOCATION:515 Water St Sauk City\, WI 53583
UID:e.1184.22454
SEQUENCE:3
DTSTAMP:20260423T153226Z
URL:http://members.saukprairie.com/events/details/give-back-tie-blankets-22454
END:VEVENT

END:VCALENDAR
