BEGIN:VCALENDAR
VERSION:2.0
PRODID:-//ChamberMaster//Event Calendar 2.0//EN
METHOD:PUBLISH
X-PUBLISHED-TTL:P3D
REFRESH-INTERVAL:P3D
CALSCALE:GREGORIAN
BEGIN:VEVENT
DTSTART:20220507T150000Z
DTEND:20220508T000000Z
X-MICROSOFT-CDO-ALLDAYEVENT:FALSE
SUMMARY:Glitter Girl Gems Grand Opening
DESCRIPTION:Join Glitter Girl Gems to celebrate the GRAND OPENING May 7th @ 10 am to 7pm. Glitter Girl Gems has custom copper jewelry\, resin accessories and many unique items. If it sparkles\, shines or glitters\, Glitter Girl Gems has it.  We will have snacks and Derby themed non alcoholic beverages\, a drawing and grand opening discount of 10% off any purchase. Dress in your best Derby hat or outfit and get a special gift gift.
X-ALT-DESC;FMTTYPE=text/html:Join Glitter Girl Gems to celebrate the GRAND OPENING May 7th @ 10 am to 7pm. Glitter Girl Gems has custom copper jewelry\, resin accessories and many unique items. If it sparkles\, shines or glitters\, Glitter Girl Gems has it.&nbsp\; We will have snacks and Derby themed non alcoholic beverages\, a drawing and grand opening discount of 10% off any purchase. Dress in your best Derby hat or outfit and get a special gift gift.&nbsp\;
LOCATION:431 Water Street Suite 101 Prairie Du Sac\, WI 53578 On the backside of the Eagle Pointe Strip Mall 10am-7pm
UID:e.1184.27620
SEQUENCE:3
DTSTAMP:20260421T134348Z
URL:http://members.saukprairie.com/events/details/glitter-girl-gems-grand-opening-27620
END:VEVENT

END:VCALENDAR
