BEGIN:VCALENDAR
VERSION:2.0
PRODID:-//ChamberMaster//Event Calendar 2.0//EN
METHOD:PUBLISH
X-PUBLISHED-TTL:P3D
REFRESH-INTERVAL:P3D
CALSCALE:GREGORIAN
BEGIN:VEVENT
DTSTART:20221208T000000Z
DTEND:20221208T013000Z
X-MICROSOFT-CDO-ALLDAYEVENT:FALSE
SUMMARY:Glitter Girl Gems Jewelry's Making Workshop Ages 7-13
DESCRIPTION:Need sometime to get some Christmas shopping done\, wrap presents\, lunch with friends or just time away from the kids this holiday season? Glitter Girl has the solution! Drop off your kids ages 7-13 for a 90 minute art session. Each session student will complete a project or two to take home or use as gifts. $40 per student per workshop includes cost of martials\, a light snack\, instruction\, fun\, sparkle and glitter! Up to 8 students per session-\n\nGlitter Girl (GG) has over 20 years of teaching experience and over 30 years of experience working with children. GG spent 10 years working in Special Education as a transition teacher helping those 16 to 21 years of age move into adulthood. I truly enjoy working with youth and help them find their inner artist.\n\nSunday 11/27/22 12:00pm to 1:30pm - 2 Beaded bracelets (stretch and wire)\n\nSunday 11/27/22 3:00pm to 4:30pm - 2 copper wrapped Pendants (single wire wrap and triple wrapping)\n\nWednesday 11/30/22 6pm - 7:30pm - metal sign design\n\nSunday December 4th 12:00pm-1:30pm - Copper wire ring\n\nSunday December 4th 3:00pm-4:30pm - Christmas ornaments\n\nWednesday December 7th 6:00pm to 7:30pm - Small Holiday Arrangement\n\n\n\nhttps://www.eventbrite.com/e/ggs-glitter-girl-art-workshop-ages-7-13-tickets-471156510807
X-ALT-DESC;FMTTYPE=text/html:<p>Need sometime to get some Christmas shopping done\, wrap presents\, lunch with friends or just time away from the kids this holiday season? Glitter Girl has the solution! Drop off your kids ages 7-13 for a 90 minute art session. Each session student will complete a project or two to take home or use as gifts. $40 per student per workshop includes cost of martials\, a light snack\, instruction\, fun\, sparkle and glitter! Up to 8 students per session-</p>\n\n<p>Glitter Girl (GG) has over 20 years of teaching experience and over 30 years of experience working with children. GG spent 10 years working in Special Education as a transition teacher helping those 16 to 21 years of age move into adulthood. I truly enjoy working with youth and help them find their inner artist.</p>\n\n<p>Sunday 11/27/22 12:00pm to 1:30pm - 2 Beaded bracelets (stretch and wire)</p>\n\n<p>Sunday 11/27/22 3:00pm to 4:30pm - 2 copper wrapped Pendants (single wire wrap and triple wrapping)</p>\n\n<p>Wednesday 11/30/22 6pm - 7:30pm - metal sign design</p>\n\n<p>Sunday December 4th 12:00pm-1:30pm - Copper wire ring</p>\n\n<p>Sunday December 4th 3:00pm-4:30pm - Christmas ornaments</p>\n\n<p>Wednesday December 7th 6:00pm to 7:30pm - Small Holiday Arrangement<br />\n<br />\nhttps://www.eventbrite.com/e/ggs-glitter-girl-art-workshop-ages-7-13-tickets-471156510807</p>\n
LOCATION:Glitter Girl Gems 431 Water Street #101 Prairie du Sac WI 53578
UID:e.1184.29077
SEQUENCE:3
DTSTAMP:20260421T020917Z
URL:http://members.saukprairie.com/events/details/glitter-girl-gems-jewelry-s-making-workshop-ages-7-13-12-07-2022-29077
END:VEVENT

END:VCALENDAR
