BEGIN:VCALENDAR
VERSION:2.0
PRODID:-//ChamberMaster//Event Calendar 2.0//EN
METHOD:PUBLISH
X-PUBLISHED-TTL:P3D
REFRESH-INTERVAL:P3D
CALSCALE:GREGORIAN
BEGIN:VEVENT
DTSTART:20211218T230000Z
DTEND:20211219T010000Z
X-MICROSOFT-CDO-ALLDAYEVENT:FALSE
SUMMARY:Glow in the Glen
DESCRIPTION:Drive through the Glen\, while taking in all the Christmas lights\, listen to our bagpiper play traditional christmas songs. See our live nativity scene\, wave hello to Santa and Mrs. Claus as you pick up some soup and hot cocoa!  $5.00 suggested donation at entrance\, (Soup and Hot cocoa will be for sale as well!) 5-7PM
X-ALT-DESC;FMTTYPE=text/html:<span style="font-family:calibri\,sans-serif\;"><span style="font-size:11.0pt\;">Drive through the Glen\, while taking in all the Christmas lights\, listen to our bagpiper play traditional christmas songs. See our live nativity scene\, wave hello to Santa and Mrs. Claus as you pick up some soup and hot cocoa!&nbsp\; $5.00 suggested donation at entrance\, (Soup and Hot cocoa will be for sale as well!) 5-7PM</span></span><br />\n&nbsp\;
LOCATION:Durwards Glen W11876 McLeisch Road Baraboo\, WI 53913
UID:e.1184.26937
SEQUENCE:3
DTSTAMP:20260421T185537Z
URL:http://members.saukprairie.com/events/details/glow-in-the-glen-26937
END:VEVENT

END:VCALENDAR
