BEGIN:VCALENDAR
VERSION:2.0
PRODID:-//ChamberMaster//Event Calendar 2.0//EN
METHOD:PUBLISH
X-PUBLISHED-TTL:P3D
REFRESH-INTERVAL:P3D
CALSCALE:GREGORIAN
BEGIN:VEVENT
DTSTART:20230719T170000Z
DTEND:20230719T170000Z
X-MICROSOFT-CDO-ALLDAYEVENT:FALSE
SUMMARY:Golf Outing & Dinner
DESCRIPTION:Join us for our 14th annual golf outing and dinner! This event is hosted by the Friends of the Ruth Culver Community Library and all proceeds will benefit the Ruth Culver Community Library. Special opportunities to support the event as a sponsor are also available. Visit www.pdslibrary.org/golf-2023 for registration and more information
X-ALT-DESC;FMTTYPE=text/html:<span style="color: rgb(5\, 5\, 5)\; font-family: &quot\;Segoe UI Historic&quot\;\, &quot\;Segoe UI&quot\;\, Helvetica\, Arial\, sans-serif\; font-size: 15px\;">Join us for our 14th annual golf outing and dinner! This event is hosted by the Friends of the Ruth Culver Community Library and all proceeds will benefit the Ruth Culver Community Library. Special opportunities to support the event as a sponsor are also available. Visit&nbsp\;</span><a class="x1i10hfl xjbqb8w x6umtig x1b1mbwd xaqea5y xav7gou x9f619 x1ypdohk xt0psk2 xe8uvvx xdj266r x11i5rnm xat24cr x1mh8g0r xexx8yu x4uap5 x18d9i69 xkhd6sd x16tdsg8 x1hl2dhg xggy1nq x1a2a7pz xt0b8zv x1fey0fg" href="https://l.facebook.com/l.php?u=http%3A%2F%2Fwww.pdslibrary.org%2Fgolf-2023%3Ffbclid%3DIwAR1s41PGBBKQhobsxdLd-MkneVAoaNbyEPtUe2ypORR1PTrjEwhZfr9aXBA&amp\;h=AT0cnCMCY7ccDGg3YyD0GyAg8NoLY5Hv_nVzjjUOwlxIz8_pw3lyw-rZjuSsIkNWb-ZKUPsd8MRVj0PjcvFrZI2RRJzYAEPvpskSQvuYy3kBp-htyaRi7D8uoTTN8EFP0g&amp\;__tn__=q&amp\;c[0]=AT1eotF_B_e0qP3BCQwRV0ktd0LH7rBOybHscKJYCxXcT-WB2F7BrpP2DZwTJiN0iSPUIw94Ki0-H4j0ZBjSwMdUmvjguBZnNI8H1il9x8vpbkxuYkXnChljFWNSlNDm8kOqhVWQnItuC_ho86oLCQxwG1JX" rel="nofollow noreferrer" role="link" style="color: var(--blue-link)\; cursor: pointer\; text-decoration-line: none\; border-width: 0px\; border-style: initial\; border-color: initial\; outline: none\; list-style: none\; margin: 0px\; padding: 0px\; -webkit-tap-highlight-color: transparent\; box-sizing: border-box\; touch-action: manipulation\; display: inline\; font-family: &quot\;Segoe UI Historic&quot\;\, &quot\;Segoe UI&quot\;\, Helvetica\, Arial\, sans-serif\; font-size: 15px\;" tabindex="0" target="_blank">www.pdslibrary.org/golf-2023</a><span style="color: rgb(5\, 5\, 5)\; font-family: &quot\;Segoe UI Historic&quot\;\, &quot\;Segoe UI&quot\;\, Helvetica\, Arial\, sans-serif\; font-size: 15px\;">&nbsp\;for registration and more information</span>
LOCATION:Lake Wisconsin Country Club N1076 Golf Rd\, Prairie du Sac
UID:e.1184.30893
SEQUENCE:3
DTSTAMP:20260420T102049Z
URL:http://members.saukprairie.com/events/details/golf-outing-dinner-30893
END:VEVENT

END:VCALENDAR
