BEGIN:VCALENDAR
VERSION:2.0
PRODID:-//ChamberMaster//Event Calendar 2.0//EN
METHOD:PUBLISH
X-PUBLISHED-TTL:P3D
REFRESH-INTERVAL:P3D
CALSCALE:GREGORIAN
BEGIN:VEVENT
DTSTART;VALUE=DATE:20240612
DTEND;VALUE=DATE:20240613
TRANSP:TRANSPARENT
X-MICROSOFT-CDO-ALLDAYEVENT:TRUE
SUMMARY:Golfing for the Gold
DESCRIPTION:Golfing for the Gold - 32nd Annual Sauk Prairie Healthcare Golf Outing\n\n\n\nJune 12\, 2024 @ Lake Wisconsin County Club - N1076 Golf Rd.\, Prairie du Sac\n\n	10:30 AM Registration\n	11:00 AM Lunch\n	12:00 PM Shotgun Start\n	5-7:30PM Dinner\n\nSpace is limited\, Click Here Register today!
X-ALT-DESC;FMTTYPE=text/html:Golfing for the Gold - 32nd Annual Sauk Prairie Healthcare Golf Outing<br />\n<br />\nJune 12\, 2024 @ Lake Wisconsin County Club - N1076 Golf Rd.\, Prairie du Sac\n<ul>\n	<li>10:30 AM Registration</li>\n	<li>11:00 AM Lunch</li>\n	<li>12:00 PM Shotgun Start</li>\n	<li>5-7:30PM Dinner</li>\n</ul>\nSpace is limited\, Click <u><strong><a href="https://www.saukprairiehealthcare.org/about/sauk-prairie-healthcare-foundation/golf/">Here</a></strong></u> Register today!<br />\n&nbsp\;
LOCATION:
UID:e.1184.32063
SEQUENCE:3
DTSTAMP:20260419T191805Z
URL:http://members.saukprairie.com/events/details/golfing-for-the-gold-32063
END:VEVENT

END:VCALENDAR
