BEGIN:VCALENDAR
VERSION:2.0
PRODID:-//ChamberMaster//Event Calendar 2.0//EN
METHOD:PUBLISH
X-PUBLISHED-TTL:P3D
REFRESH-INTERVAL:P3D
CALSCALE:GREGORIAN
BEGIN:VEVENT
DTSTART:20180428T230000Z
DTEND:20180429T020000Z
X-MICROSOFT-CDO-ALLDAYEVENT:FALSE
SUMMARY:Good For What Ales You
DESCRIPTION:Sauk Prairie Healthcare Foundation invites you to enjoy activities\, food pairings and a tasting flight of popular hand-crafted brews from Vintage Brewing\n\n\n\nTickets:\n\n$50 per person includes:\n\nFood Pairings\n\nTasting Flight\n\nCommemorative Glass\n\n& Good Times!\n\n\n\nActivities:\n\nThink you have a steadier hand than a doctor? Try your hand at Operation\, as we try to set a world record!\n\n\n\nAre you in the zone? Find out with Hear Zones!
X-ALT-DESC;FMTTYPE=text/html:Sauk Prairie Healthcare Foundation invites you to enjoy activities\, food pairings and a tasting flight of popular hand-crafted brews from Vintage Brewing<br />\n<br />\nTickets:<br />\n$50 per person includes:<br />\nFood Pairings<br />\nTasting Flight<br />\nCommemorative Glass<br />\n&amp\; Good Times!<br />\n<br />\nActivities:<br />\nThink you have a steadier hand than a doctor? Try your hand at Operation\, as we try to set a world record!<br />\n<br />\nAre you in the zone? Find out with Hear Zones!
LOCATION:Vintage Brewing Co. 600 Water Street\, Sauk City
UID:e.1184.17762
SEQUENCE:3
DTSTAMP:20260424T125922Z
URL:http://members.saukprairie.com/events/details/good-for-what-ales-you-17762
END:VEVENT

END:VCALENDAR
