BEGIN:VCALENDAR
VERSION:2.0
PRODID:-//ChamberMaster//Event Calendar 2.0//EN
METHOD:PUBLISH
X-PUBLISHED-TTL:P3D
REFRESH-INTERVAL:P3D
CALSCALE:GREGORIAN
BEGIN:VEVENT
DTSTART:20180609T190000Z
DTEND:20180609T230000Z
X-MICROSOFT-CDO-ALLDAYEVENT:FALSE
SUMMARY:Good Neighbor Clinic Fundraiser
DESCRIPTION:Join us at Pape's Fair Valley Inn for a Meat Raffle (Wyttenbach's)\, Silent Auction\, Food\, Fun & Libations! We're raising money for the Good Neighbor Clinic of Sauk Prairie\, where everyone\, regardless of income or insurance\, has access to free/low cost health care.
X-ALT-DESC;FMTTYPE=text/html:Join us at Pape&#39\;s Fair Valley Inn for a Meat Raffle (Wyttenbach&#39\;s)\, Silent Auction\, Food\, Fun &amp\; Libations! We&#39\;re raising money for the Good Neighbor Clinic of Sauk Prairie\, where everyone\, regardless of income or insurance\,&nbsp\;has access&nbsp\;to free/low cost health care.
LOCATION:Pape's Fair Valley Inn E9708 West Hwy 60 Sauk City\, WI
UID:e.1184.18072
SEQUENCE:3
DTSTAMP:20260424T100720Z
URL:http://members.saukprairie.com/events/details/good-neighbor-clinic-fundraiser-18072
END:VEVENT

END:VCALENDAR
