BEGIN:VCALENDAR
VERSION:2.0
PRODID:-//ChamberMaster//Event Calendar 2.0//EN
METHOD:PUBLISH
X-PUBLISHED-TTL:P3D
REFRESH-INTERVAL:P3D
CALSCALE:GREGORIAN
BEGIN:VEVENT
DTSTART:20221029T140000Z
DTEND:20221029T220000Z
X-MICROSOFT-CDO-ALLDAYEVENT:FALSE
SUMMARY:Good Neighbor Day at the International Crane Foundation
DESCRIPTION:It's Good Neighbor Day at the International Crane Foundation on Saturday\, October 29th\, 2022! Free admission is granted to anyone who brings a non-perishable food item for the Baraboo Food Pantry (*one item per person for free admission). Donations are being matched by Viking Village Foods in Reedsburg. Visitors are encouraged to dress up in costumes and enjoy various fall-themed activity booths\, shop at our gift shop\, and take a guided tour!
X-ALT-DESC;FMTTYPE=text/html:It&rsquo\;s Good Neighbor Day at the International Crane Foundation on Saturday\, October 29th\, 2022! Free admission is granted to anyone who brings a non-perishable food item for the Baraboo Food Pantry (*one item per person for free admission). Donations are being matched by Viking Village Foods in Reedsburg. Visitors are encouraged to dress up in costumes and enjoy various fall-themed activity booths\, shop at our gift shop\, and take a guided tour!
LOCATION:the International Crane Foundation
UID:e.1184.28750
SEQUENCE:3
DTSTAMP:20260421T033743Z
URL:http://members.saukprairie.com/events/details/good-neighbor-day-at-the-international-crane-foundation-28750
END:VEVENT

END:VCALENDAR
