BEGIN:VCALENDAR
VERSION:2.0
PRODID:-//ChamberMaster//Event Calendar 2.0//EN
METHOD:PUBLISH
X-PUBLISHED-TTL:P3D
REFRESH-INTERVAL:P3D
CALSCALE:GREGORIAN
BEGIN:VEVENT
DTSTART:20220426T190000Z
DTEND:20220426T200000Z
X-MICROSOFT-CDO-ALLDAYEVENT:FALSE
SUMMARY:Google 101
DESCRIPTION:Broaden your tech skills in a low-key\, encouraging environment. Learn how to use FREE Google Gmail\, Docs\, Sheets\, and Calendar at home and work. Students must have a Gmail account set up prior to class. (Don't know how? Just ask and we can help.) Bring your own device or borrow a laptop from us\, a limited number are available. Registration is required.\n\nThis class is the first of a "Computer Basics" series. Future topics include Your Digital Library\, Canva\, and Computers 101.
X-ALT-DESC;FMTTYPE=text/html:Broaden your tech skills in a low-key\, encouraging environment. Learn how to use FREE Google Gmail\, Docs\, Sheets\, and Calendar at home and work. Students must have a Gmail account set up prior to class. (Don&#39\;t know how? Just ask and we can help.) Bring your own device or borrow a laptop from us\, a limited number are available. Registration is required.<br />\nThis class is the first of a &quot\;Computer Basics&quot\; series. Future topics include Your Digital Library\, Canva\, and Computers 101.
LOCATION:615 Phillips Blvd\, Sauk City\, WI
UID:e.1184.27201
SEQUENCE:3
DTSTAMP:20260421T132804Z
URL:http://members.saukprairie.com/events/details/google-101-27201
END:VEVENT

END:VCALENDAR
