BEGIN:VCALENDAR
VERSION:2.0
PRODID:-//ChamberMaster//Event Calendar 2.0//EN
METHOD:PUBLISH
X-PUBLISHED-TTL:P3D
REFRESH-INTERVAL:P3D
CALSCALE:GREGORIAN
BEGIN:VEVENT
DTSTART:20231114T220000Z
DTEND:20231115T000000Z
X-MICROSOFT-CDO-ALLDAYEVENT:FALSE
SUMMARY:Grand Opening & Ribbon Cutting - Willow Creek Flooring
DESCRIPTION:Join us as we celebrate Willow Creek Flooring for a grand opening & ribbon cutting.
X-ALT-DESC;FMTTYPE=text/html:Join us as we celebrate Willow Creek Flooring for a grand opening &amp\; ribbon cutting.&nbsp\;
LOCATION:742 Phillips Blvd. Sauk City
UID:e.1184.31199
SEQUENCE:3
DTSTAMP:20260420T044922Z
URL:http://members.saukprairie.com/events/details/grand-opening-amp-ribbon-cutting-willow-creek-flooring-31199
END:VEVENT

END:VCALENDAR
