BEGIN:VCALENDAR
VERSION:2.0
PRODID:-//ChamberMaster//Event Calendar 2.0//EN
METHOD:PUBLISH
X-PUBLISHED-TTL:P3D
REFRESH-INTERVAL:P3D
CALSCALE:GREGORIAN
BEGIN:VEVENT
DTSTART:20220115T160000Z
DTEND:20220115T200000Z
X-MICROSOFT-CDO-ALLDAYEVENT:FALSE
SUMMARY:Grand Opening! Brunker Realty Group- Sauk Prairie
DESCRIPTION:Come and join us for the grand opening at our Sauk Prairie location! We will have a Hot Cocoa Bar & snacks. We would love to meet new people and catch up with those we know!
X-ALT-DESC;FMTTYPE=text/html:Come and join us for the grand opening at our Sauk Prairie location! We will have a Hot Cocoa Bar &amp\; snacks. We would love to meet new people and catch up with those we know!<br />\n&nbsp\;
LOCATION:525 Water St. Prairie Du Sac\, WI 53578
UID:e.1184.26979
SEQUENCE:3
DTSTAMP:20260421T174112Z
URL:http://members.saukprairie.com/events/details/grand-opening-brunker-realty-group-sauk-prairie-26979
END:VEVENT

END:VCALENDAR
