BEGIN:VCALENDAR
VERSION:2.0
PRODID:-//ChamberMaster//Event Calendar 2.0//EN
METHOD:PUBLISH
X-PUBLISHED-TTL:P3D
REFRESH-INTERVAL:P3D
CALSCALE:GREGORIAN
BEGIN:VEVENT
DTSTART:20230304T160000Z
DTEND:20230304T210000Z
X-MICROSOFT-CDO-ALLDAYEVENT:FALSE
SUMMARY:Grand Opening of YGT & LAF Boutique
DESCRIPTION:Grand Opening of YGT Littles and LAF Boutique.\n\n\n\nOffering Women's and Children's Boutique.\n\nBoys & Girls Newborn to 7-8 Youth
X-ALT-DESC;FMTTYPE=text/html:Grand Opening of YGT Littles and LAF Boutique.<br />\n<br />\nOffering Women&#39\;s and Children&#39\;s Boutique.<br />\nBoys &amp\; Girls Newborn to 7-8 Youth
LOCATION:735 Water Street Sauk City\, WI 53583
UID:e.1184.30638
SEQUENCE:3
DTSTAMP:20260420T180826Z
URL:http://members.saukprairie.com/events/details/grand-opening-of-ygt-laf-boutique-30638
END:VEVENT

END:VCALENDAR
