BEGIN:VCALENDAR
VERSION:2.0
PRODID:-//ChamberMaster//Event Calendar 2.0//EN
METHOD:PUBLISH
X-PUBLISHED-TTL:P3D
REFRESH-INTERVAL:P3D
CALSCALE:GREGORIAN
BEGIN:VEVENT
DTSTART:20240312T213000Z
DTEND:20240312T233000Z
X-MICROSOFT-CDO-ALLDAYEVENT:FALSE
SUMMARY:Grand Opening & Ribbon Cutting - bseen Esthetics
DESCRIPTION:Join us as we celebrate bseen Esthetics for a grand opening & ribbon cutting.
X-ALT-DESC;FMTTYPE=text/html:Join us as we celebrate bseen Esthetics for a grand opening &amp\; ribbon cutting.&nbsp\;
LOCATION:603 Water Street Sauk City
UID:e.1184.31576
SEQUENCE:3
DTSTAMP:20260419T232626Z
URL:http://members.saukprairie.com/events/details/grand-opening-ribbon-cutting-bseen-esthetics-31576
END:VEVENT

END:VCALENDAR
