BEGIN:VCALENDAR
VERSION:2.0
PRODID:-//ChamberMaster//Event Calendar 2.0//EN
METHOD:PUBLISH
X-PUBLISHED-TTL:P3D
REFRESH-INTERVAL:P3D
CALSCALE:GREGORIAN
BEGIN:VEVENT
DTSTART:20220721T210000Z
DTEND:20220721T230000Z
X-MICROSOFT-CDO-ALLDAYEVENT:FALSE
SUMMARY:Grand Opening & Ribbon Cutting - C2 Juicery & Eats
DESCRIPTION:Join us as we celebrate C2 Juicery & Eats for a grand opening & ribbon cutting.
X-ALT-DESC;FMTTYPE=text/html:Join us as we celebrate C2 Juicery &amp\; Eats for a grand opening &amp\; ribbon cutting.&nbsp\;
LOCATION:545 Water Street Prairie du Sac
UID:e.1184.28171
SEQUENCE:3
DTSTAMP:20260421T103755Z
URL:http://members.saukprairie.com/events/details/grand-opening-ribbon-cutting-c2-juicery-eats-28171
END:VEVENT

END:VCALENDAR
