BEGIN:VCALENDAR
VERSION:2.0
PRODID:-//ChamberMaster//Event Calendar 2.0//EN
METHOD:PUBLISH
X-PUBLISHED-TTL:P3D
REFRESH-INTERVAL:P3D
CALSCALE:GREGORIAN
BEGIN:VEVENT
DTSTART:20220316T220000Z
DTEND:20220317T000000Z
X-MICROSOFT-CDO-ALLDAYEVENT:FALSE
SUMMARY:Grand Opening & Ribbon Cutting - Chi Health Herbs & Natural Wellness
DESCRIPTION:Join us as we celebrate Chi Health Herbs & Natural Wellness grand opening & ribbon cutting.
X-ALT-DESC;FMTTYPE=text/html:Join us as we celebrate Chi Health Herbs &amp\; Natural Wellness grand opening &amp\; ribbon cutting.&nbsp\;
LOCATION:603 Water St. Sauk City
UID:e.1184.27136
SEQUENCE:3
DTSTAMP:20260421T162300Z
URL:http://members.saukprairie.com/events/details/grand-opening-ribbon-cutting-chi-health-herbs-natural-wellness-27136
END:VEVENT

END:VCALENDAR
