BEGIN:VCALENDAR
VERSION:2.0
PRODID:-//ChamberMaster//Event Calendar 2.0//EN
METHOD:PUBLISH
X-PUBLISHED-TTL:P3D
REFRESH-INTERVAL:P3D
CALSCALE:GREGORIAN
BEGIN:VEVENT
DTSTART:20190619T220000Z
DTEND:20190620T000000Z
X-MICROSOFT-CDO-ALLDAYEVENT:FALSE
SUMMARY:Grand Opening & Ribbon Cutting - Freedom Family Chiropractic
DESCRIPTION:Please join us for a Ribbon Cutting with Freedom Family Chiropractic\n\n\n\nRSVP to spacc@saukprairie.com
X-ALT-DESC;FMTTYPE=text/html:Please join us for a Ribbon Cutting with Freedom Family Chiropractic<br />\n<br />\nRSVP to spacc@saukprairie.com
LOCATION:809 Phillips Blvd. Sauk City
UID:e.1184.22488
SEQUENCE:3
DTSTAMP:20260423T154632Z
URL:http://members.saukprairie.com/events/details/grand-opening-ribbon-cutting-freedom-family-chiropractic-22488
END:VEVENT

END:VCALENDAR
