BEGIN:VCALENDAR
VERSION:2.0
PRODID:-//ChamberMaster//Event Calendar 2.0//EN
METHOD:PUBLISH
X-PUBLISHED-TTL:P3D
REFRESH-INTERVAL:P3D
CALSCALE:GREGORIAN
BEGIN:VEVENT
DTSTART:20220623T210000Z
DTEND:20220623T230000Z
X-MICROSOFT-CDO-ALLDAYEVENT:FALSE
SUMMARY:Grand Opening & Ribbon Cutting - Glitter Girl Gems
DESCRIPTION:Join us as we celebrate Glitter Girl Gems for a grand opening & ribbon cutting.
X-ALT-DESC;FMTTYPE=text/html:Join us as we celebrate Glitter Girl Gems for a grand opening &amp\; ribbon cutting.&nbsp\;
LOCATION:431 Water Street #101 Prairie du Sac
UID:e.1184.27619
SEQUENCE:3
DTSTAMP:20260421T121205Z
URL:http://members.saukprairie.com/events/details/grand-opening-ribbon-cutting-glitter-girl-gems-27619
END:VEVENT

END:VCALENDAR
