BEGIN:VCALENDAR
VERSION:2.0
PRODID:-//ChamberMaster//Event Calendar 2.0//EN
METHOD:PUBLISH
X-PUBLISHED-TTL:P3D
REFRESH-INTERVAL:P3D
CALSCALE:GREGORIAN
BEGIN:VEVENT
DTSTART:20221012T210000Z
DTEND:20221012T230000Z
X-MICROSOFT-CDO-ALLDAYEVENT:FALSE
SUMMARY:Grand Opening & Ribbon Cutting - Green Rx
DESCRIPTION:Join us as we celebrate Green Rx for a grand opening & ribbon cutting. \n\n\n\n50% of sales will be donated to youth football program\n\n\n\nBob's BBQ Emporium Food Truck \n\n*Free Food Voucher in the store
X-ALT-DESC;FMTTYPE=text/html:Join us as we celebrate Green Rx for a grand opening &amp\; ribbon cutting.&nbsp\;<br />\n<br />\n50% of sales will be donated to youth football program<br />\n<br />\nBob&#39\;s BBQ Emporium Food Truck&nbsp\;<br />\n*Free Food Voucher in the store
LOCATION:815 Phillips Blvd. Sauk City
UID:e.1184.28712
SEQUENCE:3
DTSTAMP:20260421T033548Z
URL:http://members.saukprairie.com/events/details/grand-opening-ribbon-cutting-green-rx-28712
END:VEVENT

END:VCALENDAR
