BEGIN:VCALENDAR
VERSION:2.0
PRODID:-//ChamberMaster//Event Calendar 2.0//EN
METHOD:PUBLISH
X-PUBLISHED-TTL:P3D
REFRESH-INTERVAL:P3D
CALSCALE:GREGORIAN
BEGIN:VEVENT
DTSTART:20230415T140000Z
DTEND:20230415T170000Z
X-MICROSOFT-CDO-ALLDAYEVENT:FALSE
SUMMARY:Grand Opening & Ribbon Cutting - Isthmus Wellness
DESCRIPTION:Join us as we celebrate Isthmus Wellness grand opening & ribbon cutting.
X-ALT-DESC;FMTTYPE=text/html:Join us as we celebrate Isthmus Wellness grand opening &amp\; ribbon cutting.&nbsp\;<br />\n&nbsp\;
LOCATION:
UID:e.1184.29919
SEQUENCE:3
DTSTAMP:20260420T150010Z
URL:http://members.saukprairie.com/events/details/grand-opening-ribbon-cutting-isthmus-wellness-29919
END:VEVENT

END:VCALENDAR
