BEGIN:VCALENDAR
VERSION:2.0
PRODID:-//ChamberMaster//Event Calendar 2.0//EN
METHOD:PUBLISH
X-PUBLISHED-TTL:P3D
REFRESH-INTERVAL:P3D
CALSCALE:GREGORIAN
BEGIN:VEVENT
DTSTART:20241121T223000Z
DTEND:20241122T003000Z
X-MICROSOFT-CDO-ALLDAYEVENT:FALSE
SUMMARY:Grand Opening & Ribbon Cutting - Nicole Byrne Photography
DESCRIPTION:Join us as we celebrate Nicole Bryne Photography in her new location with a Grand Opening & Ribbon Cutting.
X-ALT-DESC;FMTTYPE=text/html:Join us as we celebrate Nicole Bryne Photography in her new location with a Grand Opening &amp\; Ribbon Cutting.&nbsp\;
LOCATION:740 Water Street Ste 1 Sauk City
UID:e.1184.34356
SEQUENCE:3
DTSTAMP:20260419T132256Z
URL:http://members.saukprairie.com/events/details/grand-opening-ribbon-cutting-nicole-byrne-photography-34356
END:VEVENT

END:VCALENDAR
