BEGIN:VCALENDAR
VERSION:2.0
PRODID:-//ChamberMaster//Event Calendar 2.0//EN
METHOD:PUBLISH
X-PUBLISHED-TTL:P3D
REFRESH-INTERVAL:P3D
CALSCALE:GREGORIAN
BEGIN:VEVENT
DTSTART:20230311T150000Z
DTEND:20230311T200000Z
X-MICROSOFT-CDO-ALLDAYEVENT:FALSE
SUMMARY:Grand Opening & Ribbon Cutting - Pet Supplies Plus
DESCRIPTION:Join us as we celebrate Pet Supplies Plus grand opening & ribbon cutting.
X-ALT-DESC;FMTTYPE=text/html:Join us as we celebrate Pet Supplies Plus grand opening &amp\; ribbon cutting.&nbsp\;<br />\n&nbsp\;
LOCATION:500 Water St. Sauk City
UID:e.1184.29948
SEQUENCE:3
DTSTAMP:20260420T165828Z
URL:http://members.saukprairie.com/events/details/grand-opening-ribbon-cutting-pet-supplies-plus-29948
END:VEVENT

END:VCALENDAR
