BEGIN:VCALENDAR
VERSION:2.0
PRODID:-//ChamberMaster//Event Calendar 2.0//EN
METHOD:PUBLISH
X-PUBLISHED-TTL:P3D
REFRESH-INTERVAL:P3D
CALSCALE:GREGORIAN
BEGIN:VEVENT
DTSTART:20191121T220000Z
DTEND:20191122T010000Z
X-MICROSOFT-CDO-ALLDAYEVENT:FALSE
SUMMARY:Grand Opening & Ribbon Cutting - reTwist-T
DESCRIPTION:Please join us for a Ribbon Cutting and Grand Opening with reTwist-T. \n\n\n\nRSVP to spacc@saukprairie.com
X-ALT-DESC;FMTTYPE=text/html:Please join us for a Ribbon Cutting and Grand Opening with reTwist-T.&nbsp\;<br />\n<br />\nRSVP to spacc@saukprairie.com
LOCATION:725 Water St. Sauk City
UID:e.1184.23618
SEQUENCE:3
DTSTAMP:20260423T083646Z
URL:http://members.saukprairie.com/events/details/grand-opening-ribbon-cutting-retwist-t-23618
END:VEVENT

END:VCALENDAR
