BEGIN:VCALENDAR
VERSION:2.0
PRODID:-//ChamberMaster//Event Calendar 2.0//EN
METHOD:PUBLISH
X-PUBLISHED-TTL:P3D
REFRESH-INTERVAL:P3D
CALSCALE:GREGORIAN
BEGIN:VEVENT
DTSTART:20230427T210000Z
DTEND:20230427T230000Z
X-MICROSOFT-CDO-ALLDAYEVENT:FALSE
SUMMARY:Grand Opening & Ribbon Cutting - Roots Family Chiropractic
DESCRIPTION:Join us as we celebrate Roots Family Chiropractic grand opening & ribbon cutting.
X-ALT-DESC;FMTTYPE=text/html:Join us as we celebrate Roots Family Chiropractic grand opening &amp\; ribbon cutting.&nbsp\;<br />\n&nbsp\;
LOCATION:809 Phillips Blvd. Sauk City
UID:e.1184.30715
SEQUENCE:3
DTSTAMP:20260420T145831Z
URL:http://members.saukprairie.com/events/details/grand-opening-ribbon-cutting-roots-family-chiropractic-30715
END:VEVENT

END:VCALENDAR
