BEGIN:VCALENDAR
VERSION:2.0
PRODID:-//ChamberMaster//Event Calendar 2.0//EN
METHOD:PUBLISH
X-PUBLISHED-TTL:P3D
REFRESH-INTERVAL:P3D
CALSCALE:GREGORIAN
BEGIN:VEVENT
DTSTART:20230727T210000Z
DTEND:20230727T230000Z
X-MICROSOFT-CDO-ALLDAYEVENT:FALSE
SUMMARY:Grand Opening & Ribbon Cutting - Sauk Spine
DESCRIPTION:Join us as we celebrate Sauk Spine for a grand opening & ribbon cutting.
X-ALT-DESC;FMTTYPE=text/html:Join us as we celebrate Sauk Spine for a grand opening &amp\; ribbon cutting.&nbsp\;
LOCATION:520 Water Street Sauk City
UID:e.1184.30882
SEQUENCE:3
DTSTAMP:20260420T102643Z
URL:http://members.saukprairie.com/events/details/grand-opening-ribbon-cutting-sauk-spine-30882
END:VEVENT

END:VCALENDAR
