BEGIN:VCALENDAR
VERSION:2.0
PRODID:-//ChamberMaster//Event Calendar 2.0//EN
METHOD:PUBLISH
X-PUBLISHED-TTL:P3D
REFRESH-INTERVAL:P3D
CALSCALE:GREGORIAN
BEGIN:VEVENT
DTSTART:20211203T210000Z
DTEND:20211204T010000Z
X-MICROSOFT-CDO-ALLDAYEVENT:FALSE
SUMMARY:Grand Opening & Ribbon Cutting - Unfolded
DESCRIPTION:Join us as we celebrate Unfolded grand opening & ribbon cutting.
X-ALT-DESC;FMTTYPE=text/html:Join us as we celebrate Unfolded grand opening &amp\; ribbon cutting.&nbsp\;
LOCATION:Unfolded 422 Water Street Prairie du Sac
UID:e.1184.26935
SEQUENCE:3
DTSTAMP:20260421T190425Z
URL:http://members.saukprairie.com/events/details/grand-opening-ribbon-cutting-unfolded-26935
END:VEVENT

END:VCALENDAR
