BEGIN:VCALENDAR
VERSION:2.0
PRODID:-//ChamberMaster//Event Calendar 2.0//EN
METHOD:PUBLISH
X-PUBLISHED-TTL:P3D
REFRESH-INTERVAL:P3D
CALSCALE:GREGORIAN
BEGIN:VEVENT
DTSTART:20210520T150000Z
DTEND:20210520T220000Z
X-MICROSOFT-CDO-ALLDAYEVENT:FALSE
SUMMARY:Grand Opening & Ribbon Cutting - WCCU
DESCRIPTION:WCCU Prairie du Sac\n\nGrand Opening Celebration!\n\n\n\nThank you for welcoming us to the community! We are excited to finally be hosting our official grand opening event. Please join us Thursday\, May 20th at\n\n11:00AM for our ribbon-cutting ceremony followed by a donation presentation made to 6:8.\n\n\n\nNEW MEMBERS WELCOME!\n\n NUEVOS MIEMBROS BIENVENIDOS!\n\n\n\nThursday\, May 20   10 AM - 5PM\n\n1170 Prairie Street   Prairie du Sac\, WI\n\n\n\nMeet our Team   Become a Member\n\nLearn about WCCU's Community Involvement\n\n\n\n*Refreshments & Goodie Bags\n\nSign Up to Win Prizes!\n\nGrand Prize - $250 VISA Gift Card!!\n\n\n\n*Butternut Road Coffee Truck will be on\n\nsite 10AM-Noon with complimentary\n\ncoffee and refreshments
X-ALT-DESC;FMTTYPE=text/html:WCCU Prairie du Sac<br />\nGrand Opening Celebration!<br />\n<br />\nThank you for welcoming us to the community! We are excited to finally be hosting our official grand opening event. Please join us Thursday\, May 20th at<br />\n11:00AM for our ribbon-cutting ceremony followed by a donation presentation made to 6:8.<br />\n<br />\nNEW MEMBERS WELCOME!<br />\n&iexcl\;NUEVOS MIEMBROS BIENVENIDOS!<br />\n<br />\nThursday\, May 20 &bull\; 10 AM - 5PM<br />\n1170 Prairie Street &bull\; Prairie du Sac\, WI<br />\n<br />\nMeet our Team &bull\; Become a Member<br />\nLearn about WCCU&rsquo\;s Community Involvement<br />\n<br />\n*Refreshments &amp\; Goodie Bags<br />\nSign Up to Win Prizes!<br />\nGrand Prize - $250 VISA Gift Card!!<br />\n<br />\n*Butternut Road Coffee Truck will be on<br />\nsite 10AM-Noon with complimentary<br />\ncoffee and refreshments
LOCATION:
UID:e.1184.26624
SEQUENCE:3
DTSTAMP:20260422T051832Z
URL:http://members.saukprairie.com/events/details/grand-opening-ribbon-cutting-wccu-05-20-2021-26624
END:VEVENT

END:VCALENDAR
