BEGIN:VCALENDAR
VERSION:2.0
PRODID:-//ChamberMaster//Event Calendar 2.0//EN
METHOD:PUBLISH
X-PUBLISHED-TTL:P3D
REFRESH-INTERVAL:P3D
CALSCALE:GREGORIAN
BEGIN:VEVENT
DTSTART:20230406T210000Z
DTEND:20230406T230000Z
X-MICROSOFT-CDO-ALLDAYEVENT:FALSE
SUMMARY:Grand Re-Opening & Ribbon Cutting - SP Fitness & Nutrition Bar
DESCRIPTION:Join us as we celebrate the Grand Re-Opening and Ribbon Cutting for SP Fitness & Nutrition Bar!
X-ALT-DESC;FMTTYPE=text/html:Join us as we celebrate the Grand Re-Opening and Ribbon Cutting for SP Fitness &amp\; Nutrition Bar!
LOCATION:532 Water St. Sauk City
UID:e.1184.30680
SEQUENCE:3
DTSTAMP:20260420T150133Z
URL:http://members.saukprairie.com/events/details/grand-re-opening-ribbon-cutting-sp-fitness-nutrition-bar-30680
END:VEVENT

END:VCALENDAR
